BEGIN:VCALENDAR
VERSION:2.0
PRODID:-//Dom terapii i rozwoju Rodzina od Nowa - ECPv6.13.2.1//NONSGML v1.0//EN
CALSCALE:GREGORIAN
METHOD:PUBLISH
X-WR-CALNAME:Dom terapii i rozwoju Rodzina od Nowa
X-ORIGINAL-URL:https://rodzinaodnowa.waw.pl
X-WR-CALDESC:Wydarzenia dla Dom terapii i rozwoju Rodzina od Nowa
REFRESH-INTERVAL;VALUE=DURATION:PT1H
X-Robots-Tag:noindex
X-PUBLISHED-TTL:PT1H
BEGIN:VTIMEZONE
TZID:Europe/Warsaw
BEGIN:DAYLIGHT
TZOFFSETFROM:+0100
TZOFFSETTO:+0200
TZNAME:CEST
DTSTART:20260329T010000
END:DAYLIGHT
BEGIN:STANDARD
TZOFFSETFROM:+0200
TZOFFSETTO:+0100
TZNAME:CET
DTSTART:20261025T010000
END:STANDARD
END:VTIMEZONE
BEGIN:VEVENT
DTSTART;TZID=Europe/Warsaw:20260423T191500
DTEND;TZID=Europe/Warsaw:20260423T211500
DTSTAMP:20260420T112517
CREATED:20260210T141800Z
LAST-MODIFIED:20260410T120126Z
UID:27457-1776971700-1776978900@rodzinaodnowa.waw.pl
SUMMARY:TERAPIA GRUPOWA "Emocje na kompasie - Nauka nawigacji w świecie relacji"
DESCRIPTION:Emocje na kompasie – Nauka nawigacji w świecie relacji – czteromiesięczny proces terapii grupowej osób dorosłych. Dwie różne perspektywy\, jeden wspólny cel: wspierać Cię w odnalezieniu własnego kierunku. \n\nProgram realizowany jest w trakcie 16 spotkań. Grupa półotwarta – możesz dołączyć w trakcie procesu.Każda sesja trwa 120 minut\, odbywa się 1 raz w tygodniu\, we czwartki\, w godz. 19:15-21:15. \n\nKoszt jednego spotkania to 150 zł. \n\nZarezerwuj termin konsultacji \n\nJeśli nie korzystałeś/-aś wcześniej z usług naszego ośrodka\, zapraszamy na obowiązkową konsultację wstępną.To przestrzeń\, w której wspólnie określimy Twoje potrzeby i sprawdzimy\, czy ta grupa będzie dla Ciebie najlepszym wyborem. \n\nKoszt konsultacji: 100 złForma: online (ZOOM) lub stacjonarnie w Domu Terapii „Rodzina od Nowa”. \n\nZarezerwuj\n\n\nCzy to grupa dla Ciebie?\n\nTa forma terapii jest dedykowana osobom\, które chcą:Szukać autentycznościBudować relacje oparte na szczerości\, bliskości i odwadze wchodzenia w kontakt z drugim człowiekiem. \n\nWzmacniać poczucie wartościOdnaleźć stabilny fundament pewności siebie niezależny od ocen i oczekiwań innych. \n\nStawiać zdrowe graniceŚwiadomie rozpoznawać\, które relacje Cię budują i wzmacniają\, a które naruszają wewnętrzną równowagę i Twoje granice lub wartości. \n\nRozumieć swoje emocjeOdczytywać\, co naprawdę próbują Ci powiedzieć uczucia Twoje lub drugiej osoby i jakie potrzeby za nimi stoją oraz jak nimi zarządzać. \n\nZmieniać schematyZauważyć powtarzające się wzorce i nauczyć się budować więzi w nowy\, bardziej wspierający sposób. Chcą porzucić ograniczające przekonania a w ich miejsce zbudować nowe – korzystne na tym etapie życia. \n\nUzgadniać kierunekWyjść z toksycznych relacji\, przestać przyciągać niewłaściwe osoby i zacząć wybierać świadomie. \n\nCzego doświadczysz w trakcie sesji?\n\nProgram obejmuje 16 intensywnych spotkań (łącznie 32 godziny pracy)\, a pomiędzy nimi zadania domowe nakierowane na wsparcie rozwoju osoby oraz materiały edukacji psychologicznej.Wykorzystujemy dynamikę grupy jako bezpieczne laboratorium relacji\, w którym możesz obserwować swoje reakcje\, testować nowe zachowania i uczyć się w kontakcie z innymi. \n\nW procesie korzystamy z: \n\nSynergii dwóch perspektywGrupę prowadzi para terapeutów (kobieta i mężczyzna)\, pracująca w oparciu o:a. podejście łączące teorie i techniki z różnych nurtów psychoterapii;b. prowokatywność i techniki coachingowe co pozwala pracować z pełnym spektrum dynamik relacyjnych;c. elementy dramy – interaktywnej metody improwizacji i wchodzenia w role („ćwiczenie życia”). Drama umożliwia w bezpiecznych warunkach rozwijać empatię\, kreatywność oraz umiejętności społeczne\, wykorzystując naturalną wyobraźnię uczestników. \n\nPraktyki i doświadczeniaŁączymy pracę procesową\, elementy treningu interpersonalnego\, podejście systemowe i eklektyczne. \n\nRóżnorodnych narzędziOd rozmowy i pracy w kręgu\, przez ćwiczenia grupowe\, po elementy improwizacji i pracy z ciałem. \n\nDynamiki grupyZobaczysz\, jak Twoje emocje rezonują z innymi\, a grupa stanie się lustrem\, w którym możesz bezpiecznie przyjrzeć się swoim schematom. \n\nCzy Twoje życie emocjonalne to precyzyjny system\, który działa perfekcyjnie: wybierasz źle\, cierpisz\, narzekasz\, i nic nie zmieniasz? Masz w tym misrzostwo? Relacje wspierające i naprawdę Twoje? Brzmi strasznie? Kto będzie Twoim nowym projektem do naprawiania? Kto dostarczy adrenalinę? Bo szczęście jest takie… nudne. Prawda?Wybierz naukę granic\, zanim wybierzesz kolejne wytłumaczenie. Naucz się nawigować w stronę relacji\, w których nie toniesz\, tylko płyniesz w swoją stronę. \n\nW Domu terapii i rozwoju Rodzina od Nowa zrealizowaliśmy dotychczas kilkadziesiąt procesów terapii grupowej osób dorosłych — dziś to setki przedstawicieli naszej RODZINY! Pozostały z nami wspomnienia historii\, z którymi do nas przyszli\, ich mierzenia się z codziennością i podejmowania decyzji o życiowych zmianach\, w których im towarzyszyliśmy i wspieraliśmy. I duma z tego\, jak przeszli proces docierania do swoich zasobów i odwagi do świadomego z nich korzystania. \n\n\n\nGrupa będzie prowadzona przez: \n\n\n\nJoanna Czarnecka \n\nCoach\, konsultant biznesu\, terapeutka\, wykładowca\, superwizor coachingu\, terapii oraz pracy trenerskiej w nurcie prowokatywnym.Więcej informacji znajdziesz\, klikając w ten link. \n\n\n\nLeon Sztandke \n\nSeksuolog\, terapeuta par\, terapeuta uzależnień\, mediator rodzinny.Więcej informacji znajdziesz\, klikając w ten link. \n\nZgłoszenia do grupy/konsultacje \n\nJeśli nie korzystałeś/-aś wcześniej z usług naszego ośrodka\, zapraszamy na obowiązkową konsultację wstępną.To przestrzeń\, w której wspólnie określimy Twoje potrzeby i sprawdzimy\, czy ta grupa będzie dla Ciebie najlepszym wyborem.Konsultacje odbywają się on-line (platforma ZOOM) lub stacjonarnie\, w siedzibie Domu terapii i rozwoju Rodzina od Nowa. Koszt konsultacji – 100 zł. \n\nZarezerwuj\n\n\nPorady praktyka – jak skutecznie korzystać z terapii grupowej \nTerapia grupowa DDA/DDD: siła grupy w terapii osób pochodzących z dysfunkcyjnych rodzin\nDorosłe Dzieci Alkoholików (DDA) to termin\, który odnosi się do osób dorosłych wychowanych w rodzinach\, gdzie jeden lub oboje rodzice byli uzależnieni od alkoholu. Tacy ludzie często borykają się z licznymi trudnościami emocjonalnymi i behawioralnymi\, które wywodzą się z ich trudnych doświadczeń dzieciństwa. Terapia grupowa DDA to kluczowy element pomocy dla Dorosłych Dzieci Alkoholików …\nDowiedz się więcej…\n Leon Sztandke\nTerapia grupowa – co myślisz\, a co jest prawdą?Dowiedz się więcej… Leon Sztandke\n\nTerapia grupowa Warszawa Mokotów | Psychoterapia i wsparcie – Rodzina Od NowaDowiedz się więcej… Leon Sztandke\n\nTrzy style przywiązania i ich wpływ na przemoc domową\, terapię pary i bezpieczeństwo emocjonalneDowiedz się więcej… Leon Sztandke\n\nCzym różni się agresja od przemocy w związku? Praktyczny przewodnik o bezpieczeństwieDowiedz się więcej… Leon Sztandke\n\nTypy osób stosujących przemoc w związku – jak je rozpoznać i zadbać o bezpieczeństwo?Dowiedz się więcej… Leon Sztandke\n\nJak działa dysocjacja u osób doznających przemocy? Poradnik psychologicznyDowiedz się więcej… Leon Sztandke\n\nTerapia par i przemoc: co naprawdę działa\, a co nie?Dowiedz się więcej… Leon Sztandke\n\nFormy przemocy w związku: co musisz wiedzieć i gdzie szukać wsparcia w WarszawieDowiedz się więcej… Leon Sztandke\n\nJak działa trauma relacyjna? Zrozumienie przemocy domowej i procesu zdrowieniaDowiedz się więcej… Leon Sztandke\n\nStyl przywiązania a przemoc w związku – jak wpływa na relacje i bezpieczeństwo?Dowiedz się więcej… Leon Sztandke\n\nPrzemoc w związku: jak sprawcy przemocy manipulują i jak się przed tym chronić?Dowiedz się więcej… Leon Sztandke\n\nCo skłania pary do psychoterapii i jak rozpoznać\, że to właściwy moment?Dowiedz się więcej… Leon Sztandke\n\nWyuczona bezradność: jak działa w przemocowym związku i jak ją przełamać?Dowiedz się więcej… Leon Sztandke\n\nObjawy traumy relacyjnej w związku – przewodnik dla osób doświadczających przemocyDowiedz się więcej… Leon Sztandke\n\nKiedy przeszłość boli: jak przerwać spiralę rozpamiętywania trudnych doświadczeń?Dowiedz się więcej… Leon Sztandke\n\nBliskość w terapii grupowej – o odwadze przełamywania barierDowiedz się więcej… Leon Sztandke\n\nJak przygotować się do zajęć TUS dla dorosłych: Trening umiejętności społecznychDowiedz się więcej… Leon Sztandke\n\nMiędzy jajkiem a dogmatem: jak przetrwać Wielkanoc i zadbać o siebie dzięki TUS – Treningowi Umiejętności SpołecznychDowiedz się więcej… Leon Sztandke\n\nNa czym polega terapia grupowa? Psychoterapia grupowa w praktyce | Rodzina Od NowaDowiedz się więcej… Leon Sztandke\n\nSyndrom DDD – terapia dla dorosłych z rodzin dysfunkcyjnychDowiedz się więcej… Leon Sztandke\n\nSyndrom DDD – zarządzanie emocjami. Jak dorosły może przepracować traumy z dzieciństwa.Dowiedz się więcej… Leon Sztandke\n\nDobre rady w terapii grupowej – jak pomagać\, nie szkodząc?Dowiedz się więcej… Leon Sztandke\n\nNegatywne aspekty kontaktów uczestników terapii poza grupąDowiedz się więcej… Leon Sztandke\n1\n	2\n	›
URL:https://rodzinaodnowa.waw.pl/wydarzenie/terapia-grupowa-emocje-na-kompasie-2-2/
CATEGORIES:Grupa wsparcia,Terapia grupowa,Warszaty
ATTACH;FMTTYPE=image/png:https://rodzinaodnowa.waw.pl/wp-content/uploads/2025/02/prowokatywnosc-wyzwanie.png
END:VEVENT
BEGIN:VEVENT
DTSTART;TZID=Europe/Warsaw:20260504T181500
DTEND;TZID=Europe/Warsaw:20260504T201500
DTSTAMP:20260420T112517
CREATED:20260216T084850Z
LAST-MODIFIED:20260410T143907Z
UID:27467-1777918500-1777925700@rodzinaodnowa.waw.pl
SUMMARY:Trening Umiejętności Społecznych dla dorosłych poniedziałki\, od 4 maja
DESCRIPTION:Trening Umiejętności Społecznych realizowany jest w trakcie 12 sesji grupowych (grupa do 12 osób). \n\nKażda sesja trwa 120 minut\, odbywa się 1 raz w tygodniu\, w poniedziałki\, w godz. 18:15-20:15. \n\nKoszt jednego spotkania to 150 zł. \n\n\n\nZarezerwuj termin konsultacji \n\nPrzed przystąpieniem do grupy TUS zapraszamy na obowiązkową konsultację.Wspólnie określimy twoje potrzeby\, odpowiemy na pytania i wyjaśnimy ewentualne wątpliwości.Koszt konsultacji – 200 zł. \n\nUmów rozmowę kwalifikacyjną\n\n\nByć może czytasz ten wpis\, bo szukasz miejsca\, w którym będzie można nauczyć się jak: \n\n✔️ mówić NIE – odmawiać oraz akceptować czyjeś NIE\,✔️ inicjować rozmowy\, włączać się i podtrzymywać rozmowy\,✔️ wyrażać krytykę i reagować na krytykę\,✔️ radzić sobie z emocjami i uczuciami – rozpoznawać emocje i odpowiednio je wyrażać\,✔️ zawierać i podtrzymywać znajomości\,✔️ aktywnie słuchać\,✔️ zadawać pytania\,✔️ dyskutować\,✔️ prosić o pomoc i pomagać innym\,✔️ mówić i przyjmować komplementy… \n\nCzym jest Trening Umiejętności Społecznych?\n\nTrening Umiejętności Społecznych TUS (ang. Social Skills Training SST) to zindywidualizowany program uczenia się nowych umiejętności interpersonalnych. Jest to metoda o udowodnionej naukowo skuteczności\, stosowana między innymi w terapii zaburzeń ze spektrum autyzmu. \n\nRealizowany przez nas program Treningu umiejętności społecznych (TUS) dla osób dorosłych opiera się na ustrukturyzowanych metodach i technikach\, które mają na celu rozwijanie i doskonalenie zdolności interpersonalnych\, niezbędnych do skutecznej komunikacji i funkcjonowania w społeczeństwie. Główne założenia tego treningu to: \n\n1. Diagnoza i analiza potrzeb\n\nOcena aktualnych umiejętności – identyfikacja mocnych i słabych stron uczestnika.\n\nUstalenie celów treningu – dopasowanie programu do indywidualnych potrzeb\, np. radzenie sobie z asertywnością\, rozwiązywanie konfliktów czy budowanie relacji.\n\n2. Podstawowe obszary pracy\n\nKomunikacja werbalna i niewerbalnaNauka jasnego formułowania myśli i uczuć.\n\nRozpoznawanie sygnałów niewerbalnych (gesty\, mimika).\n\nAktywne słuchanie i zadawanie pytań.\n\nAsertywnośćNauka wyrażania własnych opinii\, emocji i potrzeb bez naruszania praw innych osób.\n\nĆwiczenie umiejętności odmawiania i reagowania na krytykę.\n\nRozwiązywanie konfliktówRozpoznawanie źródeł konfliktu.\n\nStrategie negocjacji i kompromisu.\n\nBudowanie relacjiZawieranie znajomości i podtrzymywanie kontaktów.\n\nPraca nad empatią i zaufaniem.\n\nRadzenie sobie ze stresemTechniki relaksacyjne i kontrola emocji.\n\nZarządzanie napięciem w sytuacjach społecznych.\n\n3. Nasze metody pracy w TUS\n\nModelowanie zachowań – pokazywanie właściwych reakcji przez trenera.\n\nOdgrywanie ról (role-playing) – symulacje sytuacji społecznych\, które pozwalają na praktyczne ćwiczenia.\n\nInformacja zwrotna – omówienie zachowań i udzielanie konstruktywnej krytyki.\n\nPraca grupowa – nauka poprzez interakcje z innymi uczestnikami.\n\nTrening umiejętności praktycznych – ćwiczenia do wykonywania poza zajęciami\, np. rozmowy z nieznajomymi.\n\n4. Zastosowanie i grupy docelowe naszych zajęć TUS\n\nOsoby po kryzysach życiowych – odbudowywanie pewności siebie i relacji. \n\nOsoby z trudnościami społecznymi (np. zaburzenia lękowe\, depresja\, zaburzenia ze spektrum autyzmu). \n\nOsoby przygotowujące się do pracy zawodowej – doskonalenie umiejętności miękkich\, takich jak praca zespołów. \n\nCo robimy w trakcie sesji TUS:\n\nTrening umiejętności społecznych TUS to miejsce bezpiecznego nawiązywania relacji i uczenia się rozwiązywania konfliktów. Podczas treningu będziesz mieć możliwość rozwinięcia zachowań akceptowalnych społecznie i nauczyć się regulacji emocjonalnej.Nabyte umiejętności pomogą Ci w rozumieniu relacji społecznych i w rozwiązywaniu codziennych problemów. To możliwość wzbogacenia katalogu swoich zachowań tak\, aby móc czerpać więcej satysfakcji z codziennego życia\, pełniąc społeczne role małżonka\, rodzica\, pracownika itp. \n\nJeżeli doświadczasz trudności w wymienionych powyżej lub w podobnych sytuacjach\, uważasz\, że już najwyższy czas\, aby zacząć prowadzić bardziej satysfakcjonujące życie prywatne (związki\, dobre relacje rodzinne\, trwałe przyjaźnie)\, jak również bardziej zadowalające życie zawodowe (umiejętność rozwiązywania konfliktów\, tolerancja odmienności\, elastyczność\, asertywność)\, to skontaktuj się z nami i przejdź Trening Umiejętności Społecznych TUS osób dorosłych! \n\nGrupę TUS osób dorosłych będzie prowadzić: \n\n\n\nAgata Jóźwiak \n\nCertyfikowany trener umiejętności psychospołecznych\, terapeuta środowiskowy.Więcej informacji znajdziesz\, klikając w ten link. \n\nTu znajdziesz wywiad z Agatą Jóżwiak\, na temat umiejętności społecznych i treningu umiejętności społecznych (TUS). W artykule omówiono\, czym są umiejętności społeczne\, dlaczego niektórzy ludzie mają w tym obszarze deficyty oraz na czym polega trening umiejętności społecznych. \n\nZarezerwuj termin konsultacji \n\nPrzed przystąpieniem do grupy TUS zapraszamy na obowiązkową konsultację.Wspólnie określimy twoje potrzeby\, odpowiemy na pytania i wyjaśnimy ewentualne wątpliwości.Koszt konsultacji – 200 zł. \n\nUmów rozmowę kwalifikacyjną\n\n\n\nFAQ: Odpowiedzi na pytania dotyczące treningu umiejętności społecznych\n\n\n\n\nCzy muszę opowiadać o swoich prywatnych problemach na forum grupy?\n\n\nAbsolutnie nie. TUS to warsztat\, a nie psychoterapia grupowa\, gdzie analizujemy traumy z dzieciństwa. Skupiamy się na „tu i teraz” oraz na ćwiczeniu konkretnych narzędzi komunikacyjnych. Masz pełne prawo do zachowania prywatności. Wielu uczestników traktuje te zajęcia jak trening biznesowy/rozwojowy. To Ty decydujesz\, ile o sobie powiesz. \n\n\n\n\nBoję się\, że będę jedyną osobą\, która się stresuje. Kto bierze udział w zajęciach?\n\n\nTo najczęstsza obawa\, która znika już po 15 minutach pierwszego spotkania. Uczestnicy naszych grup to zazwyczaj dorośli studenci\, programiści\, pracownicy biurowi czy osoby pracujące zdalnie\, którzy po prostu chcą poczuć się pewniej w relacjach. To ludzie tacy jak Ty. \n\n\n\n\nCzy ten trening jest dla mnie\, jeśli jestem osobą introwertyczną lub podejrzewam u siebie spektrum autyzmu/ADHD?\n\n\nTak. Program jest zaprojektowany w sposób inkluzywny i „neuro-przyjazny”. Nie zmuszamy do ekstrawersji ani bycia „duszą towarzystwa”. Uczymy\, jak odnaleźć się w relacjach społecznych w zgodzie z Twoim temperamentem. Jeśli masz diagnozę lub podejrzenie neuroatypowości\, znajdziesz tu bezpieczną przestrzeń i narzędzia dopasowane do Twojego sposobu postrzegania świata. \n\n\n\n\nNa czym polegają ćwiczenia? Czy będę zmuszany do odgrywania scenek?\n\n\nPracujemy metodami warsztatowymi (modelowanie\, instruktaż\, trening behawioralny). Tak\, ćwiczymy scenki (np. asertywną odmowę\, inicjowanie rozmowy)\, ale robimy to stopniowo. Nikogo nie rzucamy na głęboką wodę. Zaczynamy od obserwacji\, potem ćwiczymy w parach\, a dopiero gdy poczujesz się gotowy/a – na forum grupy. Zasada jest prosta: bezpieczeństwo przede wszystkim. \n\n\n\n\nCo w sytuacji\, gdy opuszczę jedno spotkanie?\n\n\nRozumiemy\, że życie dorosłe bywa nieprzewidywalne. Choć zalecamy obecność na wszystkich spotkaniach dla zachowania dynamiki procesu\, jedna nieobecność nie wyklucza Cię z grupy. Otrzymasz materiały z zajęć\, a trener krótko wprowadzi Cię w temat na kolejnym spotkaniu. \n\n\n\n\nCzym różni się TUS od zwykłej terapii?\n\n\nTerapię można porównać do leczenia urazu – często sięga do przeszłości i szuka przyczyn. TUS jest jak siłownia – skupia się na budowaniu nowych mięśni. Uczymy się konkretnych algorytmów: jak postawić granicę\, jak odczytać emocje rozmówcy\, jak zareagować na krytykę. To trening umiejętności\, a nie analiza osobowości. \n\n\n\n\nJak wygląda proces zapisu? Czy muszę od razu płacić za cały pakiet zajęć?\n\n\nNie. Pierwszym krokiem jest niezobowiązująca konsultacja kwalifikacyjna z trenerem. Chcemy mieć pewność\, że ta grupa jest dla Ciebie odpowiednia i że poczujesz się w niej dobrze. Dopiero po tej rozmowie podejmujesz decyzję o dołączeniu i płatności. \n\n\n\n\n\n\n\n\nTrening umiejętności społecznych (TUS) dla młodzieży/dla dorosłych \n\nFotorelacje z niektórych naszych zajęć \n\n\n\nNa zajęciach TUS dorośli uczestnicy pod okiem doświadczonego trenera uczą się rozpoznawać emocje własne i innych\, ćwiczą empatię oraz skuteczną komunikację. Wspólne gry i scenki społeczne pokazują\, jak radzić sobie w codziennych relacjach. Każde spotkanie\, to okazja do nauki jak rozpoznawać sygnały niewerbalne\, pracować nad pewnością siebie podczas rozmów i przyjmować konstruktywny feedback od innych. Dzięki interaktywnym ćwiczeniom odkrywamy\, jak komunikować się z empatią i asertywnością. \n\n\n\n\n\n\n\n\n\n\n\nChcesz wzmocnić swoje umiejętności społeczne? Zapraszamy do zapisów na TUS. Każda sesja to przestrzeń do ćwiczeń i wymiany doświadczeń. Razem budujemy pewność siebie każdego dnia! \n\n\n\n\n	\n		\n\n			\n			\n\n							\n					\n						Nadchodzące wydarzenia					\n				\n			\n			\n				\n											\n\n	\n	\n		\n			kwi		\n		\n			23		\n	\n\n\n	\n		\n			\n\n				\n					\n		\n		19:15 – 21:15	\n	\n					\n	\n		TERAPIA GRUPOWA „Emocje na kompasie – Nauka nawigacji w świecie relacji”	\n\n				\n\n				\n			\n		\n	\n\n\n											\n\n	\n	\n		\n			maj		\n		\n			4		\n	\n\n\n	\n		\n			\n\n				\n					\n		\n		18:15 – 20:15	\n	\n					\n	\n		Trening Umiejętności Społecznych dla dorosłych poniedziałki\, od 4 maja	\n\n				\n\n				\n			\n		\n	\n\n\n									\n\n				\n	\n		Zobacz kalendarz	\n\n\n					\n	\n\n\n\n\n\nPorady praktyka – przewodnik po teatrze umiejętności społecznych \nJak kompetencje trenera wpływają na skuteczność Treningu Umiejętności Społecznych?\nTrening Umiejętności Społecznych (TUS) to klucz do rozwoju kompetencji interpersonalnych\, a jego skuteczność w dużej mierze zależy od osoby\, która go prowadzi. Jakie cechy i umiejętności powinien posiadać trener\, aby faktycznie pomóc uczestnikom? …\nDowiedz się więcej…\n Leon Sztandke\nTUS dla dorosłych Warszawa: Kompletny przewodnik 2026 | Rodzina Od NowaDowiedz się więcej… Leon Sztandke\n\n5 zaskakujących prawd o umiejętnościach społecznych\, które zmieniają wszystkoDowiedz się więcej… Leon Sztandke\n\nAsertywność to nie to\, co myślisz. 5 prawd\, które odmienią Twoje relacjeDowiedz się więcej… Leon Sztandke\n\nTUS Warszawa: Trening Umiejętności Społecznych\, zajęcia dla dorosłychDowiedz się więcej… Leon Sztandke\n\nJak przygotować się do zajęć TUS dla dorosłych: Trening umiejętności społecznychDowiedz się więcej… Leon Sztandke\n\nMiędzy jajkiem a dogmatem: jak przetrwać Wielkanoc i zadbać o siebie dzięki TUS – Treningowi Umiejętności SpołecznychDowiedz się więcej… Leon Sztandke\n\nTUS dla dorosłych: Trening umiejętności społecznych i rozwój społecznyDowiedz się więcej… Leon Sztandke\n\nJak skutecznie inicjować i podtrzymywać rozmowy? TUS jako klucz do lepszej komunikacjiDowiedz się więcej… Leon Sztandke\n\nJak dbać o swoje prawa w sytuacjach społecznych?Dowiedz się więcej… Leon Sztandke\n\nJak skutecznie zlecać zadania i rozwijać kompetencje społeczne?Dowiedz się więcej… Leon Sztandke\n\nPerswazja i manipulacja: jak stanąć w obronie swoich wartości?Dowiedz się więcej… Leon Sztandke\n\nTUS w Warszawie: Jak poprawić relacje i pewność siebie?Dowiedz się więcej… Leon Sztandke\n\nAsertywność czy agresja? Jak skutecznie komunikować swoje graniceDowiedz się więcej… Leon Sztandke\n\nTUS dla młodzieży – inwestycja w lepsze relacjeDowiedz się więcej… Leon Sztandke\n\nTUS dla dorosłych i młodzieży: jak asertywność może odmienić twoje życie?Dowiedz się więcej… Leon Sztandke\n\nJak reagować na oceny wartościujące?Dowiedz się więcej… Leon Sztandke\n\nTUS – jak rozwinąć relacje i zrozumieć siebie?Dowiedz się więcej… Leon Sztandke\n\nTUS dla dorosłych: Jak trening umiejętności społecznych wspiera społeczny rozwójDowiedz się więcej… Leon Sztandke\n\nTUS dla dorosłych – Trening Umiejętności Społecznych w WarszawieDowiedz się więcej… Leon Sztandke\n\nTUS dla dorosłych i młodzieży w Warszawie – jak skutecznie budować relacje?Dowiedz się więcej… Leon Sztandke\n\nCzy warto być „normalnym”? O relacjach i normach społecznychDowiedz się więcej… Leon Sztandke\n\nTrening umiejętności społecznych (TUS) – jak nauczyć się relacji w praktyce?Dowiedz się więcej… Leon Sztandke\n\nJak trening umiejętności społecznych pomaga w panowaniu nad emocjami?Dowiedz się więcej… Leon Sztandke\n1\n	2\n	›
URL:https://rodzinaodnowa.waw.pl/wydarzenie/trening-umiejetnosci-spolecznych-dla-doroslych-poniedzialki-od-4-maja/
CATEGORIES:TUS,TUS aktualności
ATTACH;FMTTYPE=image/png:https://rodzinaodnowa.waw.pl/wp-content/uploads/2025/06/TUS-dla-doroslych-3.png
END:VEVENT
END:VCALENDAR