BEGIN:VCALENDAR
VERSION:2.0
PRODID:-//Dom terapii i rozwoju Rodzina od Nowa - ECPv6.13.2.1//NONSGML v1.0//EN
CALSCALE:GREGORIAN
METHOD:PUBLISH
X-WR-CALNAME:Dom terapii i rozwoju Rodzina od Nowa
X-ORIGINAL-URL:https://rodzinaodnowa.waw.pl
X-WR-CALDESC:Wydarzenia dla Dom terapii i rozwoju Rodzina od Nowa
REFRESH-INTERVAL;VALUE=DURATION:PT1H
X-Robots-Tag:noindex
X-PUBLISHED-TTL:PT1H
BEGIN:VTIMEZONE
TZID:Europe/Warsaw
BEGIN:DAYLIGHT
TZOFFSETFROM:+0100
TZOFFSETTO:+0200
TZNAME:CEST
DTSTART:20220327T010000
END:DAYLIGHT
BEGIN:STANDARD
TZOFFSETFROM:+0200
TZOFFSETTO:+0100
TZNAME:CET
DTSTART:20221030T010000
END:STANDARD
END:VTIMEZONE
BEGIN:VEVENT
DTSTART;TZID=Europe/Warsaw:20220208T171500
DTEND;TZID=Europe/Warsaw:20220208T190000
DTSTAMP:20260420T130146
CREATED:20240924T142512Z
LAST-MODIFIED:20240924T142512Z
UID:19543-1644340500-1644346800@rodzinaodnowa.waw.pl
SUMMARY:Grupa dla osób w kryzysie po rozstaniu
DESCRIPTION:– Doświadczasz kryzysu związanego z rozstaniem?\n– odczuwasz stratę i masz trudność z odnalezieniem siebie oraz ułożeniem życia w nowej rzeczywistości?\n– masz trudność z pogodzeniem się z nową sytuacją?\n– nie potrafisz zamknąć tego rozdziału\, a jednocześnie nie możesz się skupić na odbudowaniu siebie oraz swojego życia na nowo? \nZdolność efektywnego poradzenia sobie z kryzysem\, stosowanie konstruktywnych strategii zaradczych to zasoby\, które ułatwiają Ci odzyskanie równowagi psychicznej.\nPoprowadzimy Cię przez siedmiomiesięczny proces wyjścia z paraliżującego Cię kryzysu.\nOto plan ramowy terapii:\n\n\nKim jesteś.\n– Mapa Twojego świata: skąd przychodzisz i dokąd zmierzasz.\n– Zwróć się ku sobie: umiejętność słuchania siebie\, zrozumienia siebie\, podążania za sobą.\nCzas żałoby po stracie i jej proces.\n– Poczucie osamotnienia\, utraty\, odrzucenia\, niezrozumienia –  poznaj metody jak sobie z nimi poradzić.\n– Dlaczego? Po co? Naprawdę? „Kiedy łzy zamieniają się w perły”- przejdź przez proces żałoby i odzyskaj siebie samego/samą.\nBudowanie akceptacji i miłości do siebie samego/samej.\n– Odkryj swoje mocne i słabe strony.\n– Określ i zbadaj przekonania na swój temat\, skąd pochodzą\, jaki mają na Ciebie wpływ\, jak rozbroić te szkodzące i zbudować nowe\, które zmienią dotychczasowe postrzeganie siebie i świata.\n– Zyskaj nową świadomość siebie\, skąd przychodzisz\, gdzie jesteś i gdzie chcesz być jutro.\nIdzie nowe.\n– Zbuduj dobrą relację samego/samej ze sobą\, aby potem podejmować życiowe decyzje w oparciu o nową perspektywę.\n\n\nJeśli chcesz korzystnie radzić sobie z kryzysem\, trudnymi emocjami\, odzyskać poczucie równowagi\, zapisz się na konsultację i dołącz do grupy terapeutycznej!\nProgram Grupy dla osób w kryzysie po rozstaniu realizowany jest w trakcie siedmiu miesięcy.\nKażda sesja trwa 105 minut\, spotkania odbywają się we wtorki od godz. od 17:15 do 19:00.\nDla osób będących na kwarantannie udostępniamy możliwość uczestniczenia w sesji on-line.\nKoszt 1 sesji – 100 zł.\nPrzed przystąpieniem do grupy wymagana jest konsultacja.\nKoszt konsultacji – 150 zł. \nW trakcie sesji doświadczysz: \n– ciepłego przyjęcia\, akceptacji innych uczestników terapii\, wypracowania przywiązania opartego na poczuciu bezpieczeństwa;\n– radzenia sobie z trudnym doświadczeniem oraz kryzysem;\n– akceptacji rzeczywistości;\n– określania\, oceny i akceptacji emocji;\n– ujawnienia i zmiany szkodzących Ci schematów codziennego funkcjonowania;\n– poprawy skuteczności związanej z osiąganiem celów\, budowania i podtrzymywania relacji;\n– opanowania umiejętności rozwiązywania na bieżąco problemów\, przetrwania kryzysów. \nW przyjaznej\, spokojnej atmosferze\, bezpiecznym i pełnym zrozumienia oraz akceptacji środowisku\, pomożemy Ci zająć się wszystkim tym\, co utrudnia funkcjonowanie w życiu. W trakcie spotkań możesz podzielić się swoim doświadczeniem ze współuczestnikami grupy. Zyskujesz tym samym możliwość na początek: – dokładnego przyjrzenia się swojemu funkcjonowaniu emocjonalnemu\, następnie — dotarcia do powiązań pomiędzy przeżywanymi emocjami i zachowaniami\, i na koniec: – wypracowania konstruktywnych strategii radzenia sobie w trudnej sytuacji. \nPodczas kolejnych sesji\, krok po kroku\, zapewne poczujesz się coraz bezpieczniej\, dzięki czemu zyskasz siłę\, aby konfrontować się z rzeczywistością\, osiągać satysfakcjonujące kompromisy\, a także poprawić swoje poczucie równowagi psychicznej. \nUczestnicząc w grupie terapeutycznej dla osób w kryzysie po rozstaniu odnajdziesz krąg osób\, z którymi możesz utworzyć bliską\, bezpieczną więź. \nGrupę dla osób w kryzysie po rozstaniu prowadzą:\nEwa Gałązka \nPsycholog\, psychoterapeuta (w trakcie certyfikacji) w nurcie behawioralno-poznawczym.\nPracuje indywidualnie i grupowo. Pomaga w pokonywaniu kryzysów życiowych związanych ze stratą\, żałobą\, rozpadem ważnej relacji\, rozwodem. W problemach w relacjach jak również w kryzysach emocjonalnych. Pracuje nad przekonaniami oraz z obniżonym poczuciem wartości. Swoją pracę poddaje superwizji.\n\n\n\n\n\n\nLeon Sztandke \nPsycholog\, seksuolog\, terapeuta par\, terapeuta uzależnień\, mediator rodzinny.\nProwadzi terapię par i małżeństw. Pracuje z osobami zmagającymi się z uzależnieniem – uzależnionymi oraz współuzależnionymi. Zajmuje się psychoterapią osób z syndromem DDA i DDD. Pomaga osobom doświadczającym zaburzeń lękowych\, zaburzeń osobowości. Wspomaga rozwój osobisty.\n\nKonsultacje\n\n\nPrzed przystąpieniem do grupy terapeutycznej zapraszamy na obowiązkową konsultację.\nWspólnie określimy Twoje potrzeby\, odpowiemy na pytania i wyjaśnimy ewentualne wątpliwości.\nUwaga! Prowadzimy także konsultacje w formie on-line\, z wykorzystaniem platformy zoom.
URL:https://rodzinaodnowa.waw.pl/wydarzenie/grupa-kryzys-rozstanie_old/
LOCATION:Poradnia Terapeutyczna Rodzina Od Nowa\, Różana 63a\, Warszawa\, Mazowieckie\, 02-569\, Poland
CATEGORIES:Terapia grupowa
ORGANIZER;CN="Leon R. Sztandke":MAILTO:poradnia@rodzinaodnowa.waw.pl
END:VEVENT
END:VCALENDAR